BEGIN:VCALENDAR
VERSION:2.0
PRODID:-//Bärenstark im Leben - ECPv6.15.20//NONSGML v1.0//EN
CALSCALE:GREGORIAN
METHOD:PUBLISH
X-ORIGINAL-URL:https://baerenstark-im-leben.com
X-WR-CALDESC:Veranstaltungen für Bärenstark im Leben
REFRESH-INTERVAL;VALUE=DURATION:PT1H
X-Robots-Tag:noindex
X-PUBLISHED-TTL:PT1H
BEGIN:VTIMEZONE
TZID:Europe/Berlin
BEGIN:DAYLIGHT
TZOFFSETFROM:+0100
TZOFFSETTO:+0200
TZNAME:CEST
DTSTART:20250330T010000
END:DAYLIGHT
BEGIN:STANDARD
TZOFFSETFROM:+0200
TZOFFSETTO:+0100
TZNAME:CET
DTSTART:20251026T010000
END:STANDARD
BEGIN:DAYLIGHT
TZOFFSETFROM:+0100
TZOFFSETTO:+0200
TZNAME:CEST
DTSTART:20260329T010000
END:DAYLIGHT
BEGIN:STANDARD
TZOFFSETFROM:+0200
TZOFFSETTO:+0100
TZNAME:CET
DTSTART:20261025T010000
END:STANDARD
BEGIN:DAYLIGHT
TZOFFSETFROM:+0100
TZOFFSETTO:+0200
TZNAME:CEST
DTSTART:20270328T010000
END:DAYLIGHT
BEGIN:STANDARD
TZOFFSETFROM:+0200
TZOFFSETTO:+0100
TZNAME:CET
DTSTART:20271031T010000
END:STANDARD
END:VTIMEZONE
BEGIN:VEVENT
DTSTART;TZID=Europe/Berlin:20260427T150000
DTEND;TZID=Europe/Berlin:20260427T163000
DTSTAMP:20260426T041116
CREATED:20260222T082532Z
LAST-MODIFIED:20260222T082532Z
UID:235052-1777302000-1777307400@baerenstark-im-leben.com
SUMMARY:Offener Treff (für Familien mit Kindern ab 1 Jahr)
DESCRIPTION:
URL:https://baerenstark-im-leben.com/veranstaltung/offener-treff-fuer-familien-mit-kindern-ab-1-jahr-2/
LOCATION:Palling\, Hoch
ORGANIZER;CN="Gscheid Gfreid":MAILTO:bernadette@gscheid-gfreid.de
END:VEVENT
END:VCALENDAR