BEGIN:VCALENDAR
VERSION:2.0
PRODID:-//Bärenstark im Leben - ECPv6.15.20//NONSGML v1.0//EN
CALSCALE:GREGORIAN
METHOD:PUBLISH
X-ORIGINAL-URL:https://baerenstark-im-leben.com
X-WR-CALDESC:Veranstaltungen für Bärenstark im Leben
REFRESH-INTERVAL;VALUE=DURATION:PT1H
X-Robots-Tag:noindex
X-PUBLISHED-TTL:PT1H
BEGIN:VTIMEZONE
TZID:Europe/Berlin
BEGIN:DAYLIGHT
TZOFFSETFROM:+0100
TZOFFSETTO:+0200
TZNAME:CEST
DTSTART:20220327T010000
END:DAYLIGHT
BEGIN:STANDARD
TZOFFSETFROM:+0200
TZOFFSETTO:+0100
TZNAME:CET
DTSTART:20221030T010000
END:STANDARD
BEGIN:DAYLIGHT
TZOFFSETFROM:+0100
TZOFFSETTO:+0200
TZNAME:CEST
DTSTART:20230326T010000
END:DAYLIGHT
BEGIN:STANDARD
TZOFFSETFROM:+0200
TZOFFSETTO:+0100
TZNAME:CET
DTSTART:20231029T010000
END:STANDARD
BEGIN:DAYLIGHT
TZOFFSETFROM:+0100
TZOFFSETTO:+0200
TZNAME:CEST
DTSTART:20240331T010000
END:DAYLIGHT
BEGIN:STANDARD
TZOFFSETFROM:+0200
TZOFFSETTO:+0100
TZNAME:CET
DTSTART:20241027T010000
END:STANDARD
END:VTIMEZONE
BEGIN:VEVENT
DTSTART;TZID=Europe/Berlin:20230320T090000
DTEND;TZID=Europe/Berlin:20230320T110000
DTSTAMP:20260426T004933
CREATED:20230312T071629Z
LAST-MODIFIED:20230312T071629Z
UID:231991-1679302800-1679310000@baerenstark-im-leben.com
SUMMARY:Workshop: Mit Baby entspannt durch die Nacht (0-1Jahr)
DESCRIPTION:Warum schläft mein Kind nicht durch? Wieso weint es abends immer? Mein Kind schläft zu wenig\, was kann ich tun? Wie kann ich die Gefahr des plötzlichen Kindstods (SIDS) minimieren? Diesen und weiteren Fragen widmen wir uns im 3stündigen Workshop. Wir decken Mythen rund um den Babyschlaf auf und ich zeige euch Wege\, wie ihr entspannt durch die Nacht kommt.\n\n\nReferentin:                 Bettina Dutzler\, MSc. | Psychologin\, Schlafberaterin\, Artgerecht-& Windelfrei-Coach\, Zwergensprache- und Dunstan-Kursleiterin\,\n\n\nZielgruppe:                 Eltern von Kindern im Alter von: 0 – 1 Jahren\n\n\nAllgemeine Info:      Babys können mitgebracht werden
URL:https://baerenstark-im-leben.com/veranstaltung/workshop-mit-baby-entspannt-durch-die-nacht-0-1jahr/
LOCATION:ONLINE
ATTACH;FMTTYPE=image/png:https://baerenstark-im-leben.com/wp-content/uploads/2023/03/Titelbilder-Baerenstark.png
ORGANIZER;CN="Familienstark":MAILTO:bettina@familienstark.at
END:VEVENT
END:VCALENDAR